BEGIN:VCALENDAR
METHOD:PUBLISH
VERSION:2.0
CALSCALE:GREGORIAN
PRODID:-//NONSGML WPForms//NONSGML Sugar Calendar Feeds v3.11.0//EN
X-WR-CALNAME:Board-of-Directors-Meeting
X-WR-CALDESC:Westside Regional Center
X-WR-TIMEZONE:America/Los_Angeles
BEGIN:VTIMEZONE
TZID:America/Los_Angeles
BEGIN:DAYLIGHT
TZOFFSETFROM:-0800
TZOFFSETTO:-0700
DTSTART:20260308T100000
TZNAME:PDT
END:DAYLIGHT
END:VTIMEZONE
BEGIN:VTIMEZONE
TZID:America/Los_Angeles
BEGIN:DAYLIGHT
TZOFFSETFROM:-0800
TZOFFSETTO:-0700
DTSTART:20260308T100000
TZNAME:PDT
END:DAYLIGHT
END:VTIMEZONE
BEGIN:VEVENT
SUMMARY:Board of Directors Meeting
DESCRIPTION:Notice of Public Meeting PC Year End Report 2025 - PDFThe pu
 blic session Call to Order is scheduled for 6:30 PM. \nThank you to eve
 ryone who participated in the Annual Performance Objectives 2025 survey 
 and Public Meeting. Your input is vital to shaping our services.\nWestsi
 de Regional Center has reviewed all feedback and incorporated it into th
 e updated Performance Contract. This contract\, reflecting community pri
 orities and DDS guidance\, will be reviewed during our July Board of Dir
 ectors meeting on July 9 at 6:30 PM.\nEveryone from the community is wel
 come to attend. Spanish interpretation will be available at the start of
  the meeting. If you require assistance to register or if you have any q
 uestions\, please contact Peggy Bottger at PeggyB@WestsideRC.org \n\nC
 lick here to download the Meeting Agenda\n\nClick here to download the N
 otice of Public Meeting PC Year End Report 2025\n\n\nClick here to regis
 ter \n\n\nEnglish Audio for Phone Callers:\n\nPlease use the informatio
 n below to call into the meeting. For support\, click here.\n\n 	Phone 
 Number: (669) 900-6833\n 	Meeting ID: 854 8510 4353 ( followed by #)\
 n 	Passcode: 114772   (followed by #)\n\nSpanish Audio for Phone Calle
 rs:\n\nPlease use the information below to call into the meeting. For su
 pport\, click here.\n\n 	Phone Number: (669) 900-6833\n 	Meeting ID: 
 854 8510 4353 (followed by #)
URL;VALUE=URI:https://westsiderc.org/sc_recurring_event/board-of-directo
 rs-meeting-10-3/
UID:urn:uuid:abe89553-eb79-4af5-a609-5e4c4a73891d
STATUS:CONFIRMED
ORGANIZER:
DTSTAMP:20260420T100535Z
DTSTART;TZID=America/Los_Angeles:20260513T183000
DTEND;TZID=America/Los_Angeles:20260513T193000
RRULE:FREQ=MONTHLY;INTERVAL=1;UNTIL=20260610T235959Z
END:VEVENT
END:VCALENDAR